BEGIN:VCALENDAR
VERSION:2.0
PRODID:-//MEST - ECPv6.15.15//NONSGML v1.0//EN
CALSCALE:GREGORIAN
METHOD:PUBLISH
X-WR-CALNAME:MEST
X-ORIGINAL-URL:https://meltwater.org
X-WR-CALDESC:Events for MEST
REFRESH-INTERVAL;VALUE=DURATION:PT1H
X-Robots-Tag:noindex
X-PUBLISHED-TTL:PT1H
BEGIN:VTIMEZONE
TZID:UTC
BEGIN:STANDARD
TZOFFSETFROM:+0000
TZOFFSETTO:+0000
TZNAME:UTC
DTSTART:20220101T000000
END:STANDARD
END:VTIMEZONE
BEGIN:VEVENT
DTSTART;TZID=UTC:20231215T080000
DTEND;TZID=UTC:20231215T170000
DTSTAMP:20260420T001957
CREATED:20240221T235544Z
LAST-MODIFIED:20240512T113927Z
UID:9780-1702627200-1702659600@meltwater.org
SUMMARY:PITCH DAY 4 (South Africa)
DESCRIPTION:Get ready for the regional finals of the MEST Africa Challenge 2023. Join us on December 15\, 2023\, as the top 10 tech startups from South Africa showcase their innovative solutions. Witness as they vie for the $50\,000 grand prize and a chance to transform their startups’ future. Tune in\, and support your favorite startups! Click here to join the meeting
URL:https://meltwater.org/event/pitch-day-4-south-africa/
ATTACH;FMTTYPE=image/jpeg:https://meltwater.org/wp-content/uploads/2024/02/pitch-4.jpeg
END:VEVENT
BEGIN:VEVENT
DTSTART;TZID=UTC:20231213T110000
DTEND;TZID=UTC:20231213T143000
DTSTAMP:20260420T001957
CREATED:20240512T114311Z
LAST-MODIFIED:20240512T114428Z
UID:9874-1702465200-1702477800@meltwater.org
SUMMARY:PITCH DAY 3 (Nigeria)
DESCRIPTION:Get ready for the regional finals of the MEST Africa Challenge 2023. Join us on December 13\, 2023\, as the top 10 tech startups from Nigeria showcase their innovative solutions. Witness as they vie for the $50\,000 grand prize and a chance to transform their startups’ future. Tune in\, and support your favorite startups!\nClick here to join the meeting
URL:https://meltwater.org/event/pitch-day-3-nigeria/
ATTACH;FMTTYPE=:
ORGANIZER;CN="MEST Africa":MAILTO:community@meltwater.org
END:VEVENT
BEGIN:VEVENT
DTSTART;TZID=UTC:20231212T140000
DTEND;TZID=UTC:20231212T163000
DTSTAMP:20260420T001957
CREATED:20240512T114506Z
LAST-MODIFIED:20240512T114506Z
UID:9878-1702389600-1702398600@meltwater.org
SUMMARY:PITCH DAY 2 (Senegal)
DESCRIPTION:Get ready for the regional finals of the MEST Africa Challenge 2023. Join us on December 12\, 2023\, as the top 5 tech startups from Senegal showcase their innovative solutions. Witness as they vie for the $50\,000 grand prize and a chance to transform their startups’ future. Tune in\, and support your favorite startups! \nClick here to join the meeting
URL:https://meltwater.org/event/pitch-day-2-senegal/
ATTACH;FMTTYPE=:
ORGANIZER;CN="MEST Africa":MAILTO:community@meltwater.org
END:VEVENT
BEGIN:VEVENT
DTSTART;TZID=UTC:20231212T110000
DTEND;TZID=UTC:20231212T133000
DTSTAMP:20260420T001957
CREATED:20240512T114608Z
LAST-MODIFIED:20240512T114608Z
UID:9881-1702378800-1702387800@meltwater.org
SUMMARY:PITCH DAY 2 (Ghana)
DESCRIPTION:Get ready for the regional finals of the MEST Africa Challenge 2023. Join us on December 12\, 2023\, as the top 10 tech startups from Ghana showcase their innovative solutions. Witness as they vie for the $50\,000 grand prize and a chance to transform their startups’ future. Tune in\, and support your favorite startups! \nClick here to join the meeting
URL:https://meltwater.org/event/pitch-day-2-ghana/
ATTACH;FMTTYPE=:
ORGANIZER;CN="MEST Africa":MAILTO:community@meltwater.org
END:VEVENT
BEGIN:VEVENT
DTSTART;TZID=UTC:20231211T110000
DTEND;TZID=UTC:20231211T133000
DTSTAMP:20260420T001957
CREATED:20240512T114704Z
LAST-MODIFIED:20240512T114704Z
UID:9885-1702292400-1702301400@meltwater.org
SUMMARY:PITCH DAY 1 (Kenya)
DESCRIPTION:Get ready for the regional finals of the MEST Africa Challenge 2023. Join us on December 11\, 2023\, as the top 10 tech startups from Kenya showcase their innovative solutions. Witness as they vie for the $50\,000 grand prize and a chance to transform their startups’ future. Tune in\, and support your favorite startups! \nClick here to join the meeting
URL:https://meltwater.org/event/pitch-day-1-kenya/
ATTACH;FMTTYPE=:
ORGANIZER;CN="MEST Africa":MAILTO:community@meltwater.org
END:VEVENT
END:VCALENDAR